BEGIN:VCALENDAR
VERSION:2.0
PRODID:-//Ambrosianeum Fondazione Culturale - ECPv6.15.17.1//NONSGML v1.0//EN
CALSCALE:GREGORIAN
METHOD:PUBLISH
X-WR-CALNAME:Ambrosianeum Fondazione Culturale
X-ORIGINAL-URL:https://ambrosianeum.org
X-WR-CALDESC:Eventi per Ambrosianeum Fondazione Culturale
REFRESH-INTERVAL;VALUE=DURATION:PT1H
X-Robots-Tag:noindex
X-PUBLISHED-TTL:PT1H
BEGIN:VTIMEZONE
TZID:Europe/Rome
BEGIN:DAYLIGHT
TZOFFSETFROM:+0100
TZOFFSETTO:+0200
TZNAME:CEST
DTSTART:20190331T010000
END:DAYLIGHT
BEGIN:STANDARD
TZOFFSETFROM:+0200
TZOFFSETTO:+0100
TZNAME:CET
DTSTART:20191027T010000
END:STANDARD
BEGIN:DAYLIGHT
TZOFFSETFROM:+0100
TZOFFSETTO:+0200
TZNAME:CEST
DTSTART:20200329T010000
END:DAYLIGHT
BEGIN:STANDARD
TZOFFSETFROM:+0200
TZOFFSETTO:+0100
TZNAME:CET
DTSTART:20201025T010000
END:STANDARD
BEGIN:DAYLIGHT
TZOFFSETFROM:+0100
TZOFFSETTO:+0200
TZNAME:CEST
DTSTART:20210328T010000
END:DAYLIGHT
BEGIN:STANDARD
TZOFFSETFROM:+0200
TZOFFSETTO:+0100
TZNAME:CET
DTSTART:20211031T010000
END:STANDARD
END:VTIMEZONE
BEGIN:VEVENT
DTSTART;TZID=Europe/Rome:20200219T180000
DTEND;TZID=Europe/Rome:20200419T190000
DTSTAMP:20260421T133548
CREATED:20200219T152444Z
LAST-MODIFIED:20200219T152444Z
UID:2277-1582135200-1587322800@ambrosianeum.org
SUMMARY:DONNE E UOMINI DI SPIRITO! Per una citta' pienamente umana"
DESCRIPTION:Secondo evento del ciclo di incontri preparatori al Rapporto sulla Citta’ Ambrosianeum 2020 \nCoordina:  \nValentina SONCINI\, dirigente scolastico\, gia’ Presidente  Azione Cattolica Milano Monza e Brianza. \nIntervengono:  \nChiara GIACCARDI. Ordinario di Sociologia dei Processi culturali e comunicativi\, Universita’ Cattolica del S.C.\, Milano. \nSilvano PETROSINO\, Filosofo\, Direttore dell’Archivio ‘Julien Ries’\, Universita’ Cattolica del S.C.\, Milano. \nEvento inserito nel palinsesto “I talenti delle donne” del Comune di Milano \nProgramma\nComunicato stampa\n\nATTENZIONE\, CONSULTARE I SINGOLI EVENTI PER VERIFICARNE\nPOSSIBILI SLITTAMENTI O CANCELLAZIONI \nL’idea di fondo E’ semplice quanto efficace: integrare al Rapporto Ambrosianeum 2020\, che quest’anno indaghera’ il legame tra la figura femminile e la citta’\, un progetto di ricerca-intervento che\, attraverso una serie di incontri aperti alla cittadinanza\, e sforzandosi di guardare oltre il tema delle disuguaglianze\, porti alla luce il contributo – di ingegno\, creativita’\, cuore e fatica – delle donne allo sviluppo della citta’\, riconoscendo l’interdipendenza dei percorsi maschili e femminili. \nIl primo incontro\, pensato per testimoniare – attraverso le esperienze di donne di spiritualita’\, religioni e culture diverse – il contributo femminile a una Milano più inclusiva e solidale\, sarà dedicato a: \n“DONNE IN DIALOGO PER LA PACE” \ne si terra’ GIOVEDI’ 6 FEBBRAIO alle ore 18.00 \nalla Fondazione Ambrosianeum – Sala Lazzati \nVia delle Ore\, 3 – Milano (MM Duomo) \nINGRESSO LIBERO \n* \nProgramma dei successivi incontri del ciclo (sede: Fondazione Ambrosianeum): \nMERCOLEDI’ 19 FEBBRAIO alle ore 18.00\, sarà dedicato a: \n“UNA CITTA’ DI DONNE E UOMINI DI SPIRITO” \n* \nGIOVEDI’ 5 MARZO alle ore 18.00 (incontro inserito negli eventi della CIVIL WEEK) \n“OLTRE LE PARI OPPORTUNITA’. Il valore della diversita’ per uno sviluppo inclusivo e sostenibile”  \n* \nMARTEDI’ 31 MARZO ALLE ORE 18.00 \n“DONNE DI FRONTIERA – dedicato a Silvia Romano”  \n*  \nMARTEDì 28 APRILE  \n“NATALITA’ E GENERATIVITA’: UN PERCORSO TRA PITTURA E VITA” \n  \n\nProgramma del Ciclo di Eventi\nComunicato Stampa
URL:https://ambrosianeum.org/evento/uomini-di-spirito/
LOCATION:Fondazione Ambrosianeum\, Sala Falck\, Via delle Ore\, 3\, Milano\, Italia
CATEGORIES:MILANO 2020 - Con voci di donne. Nel segno della reciprocita'
ATTACH;FMTTYPE=image/jpeg:https://ambrosianeum.org/wp-content/uploads/2020/02/donne-in-dialogo-per-la-pace.jpg
END:VEVENT
END:VCALENDAR