BEGIN:VCALENDAR
VERSION:2.0
PRODID:-//Ambrosianeum Fondazione Culturale - ECPv6.15.17.1//NONSGML v1.0//EN
CALSCALE:GREGORIAN
METHOD:PUBLISH
X-WR-CALNAME:Ambrosianeum Fondazione Culturale
X-ORIGINAL-URL:https://ambrosianeum.org
X-WR-CALDESC:Eventi per Ambrosianeum Fondazione Culturale
REFRESH-INTERVAL;VALUE=DURATION:PT1H
X-Robots-Tag:noindex
X-PUBLISHED-TTL:PT1H
BEGIN:VTIMEZONE
TZID:Europe/Rome
BEGIN:DAYLIGHT
TZOFFSETFROM:+0100
TZOFFSETTO:+0200
TZNAME:CEST
DTSTART:20190331T010000
END:DAYLIGHT
BEGIN:STANDARD
TZOFFSETFROM:+0200
TZOFFSETTO:+0100
TZNAME:CET
DTSTART:20191027T010000
END:STANDARD
BEGIN:DAYLIGHT
TZOFFSETFROM:+0100
TZOFFSETTO:+0200
TZNAME:CEST
DTSTART:20200329T010000
END:DAYLIGHT
BEGIN:STANDARD
TZOFFSETFROM:+0200
TZOFFSETTO:+0100
TZNAME:CET
DTSTART:20201025T010000
END:STANDARD
BEGIN:DAYLIGHT
TZOFFSETFROM:+0100
TZOFFSETTO:+0200
TZNAME:CEST
DTSTART:20210328T010000
END:DAYLIGHT
BEGIN:STANDARD
TZOFFSETFROM:+0200
TZOFFSETTO:+0100
TZNAME:CET
DTSTART:20211031T010000
END:STANDARD
END:VTIMEZONE
BEGIN:VEVENT
DTSTART;TZID=Europe/Rome:20200404T090000
DTEND;TZID=Europe/Rome:20200404T110000
DTSTAMP:20260421T225649
CREATED:20200404T102647Z
LAST-MODIFIED:20200404T102647Z
UID:2108-1585990800-1585998000@ambrosianeum.org
SUMMARY:Sindone: un mistero ancora da svelare?
DESCRIPTION:Convegno-dibattito con gli studiosi della Sindone e della sua impronta\n\n\n\nATTENZIONE: EVENTO RINVIATO A DATA DA DESTINARSI \nSaluto di benvenuto: \nMarco GARZONIO\, Presidente Ambrosianeum \nCoordina: \nAlfredo ANZANI \nIntervengono: \nLuigi RODELLA \nPaolo DI LAZZARO \nBruno BARBERIS \nGiuseppe GHIBERTI \nDa MERCOLEDi’1 APRILE Ambrosianeum ospitera’ una mostra a pannelli e una riproduzione in scala 1:1 del telo. Evento aperto al pubblico. \nIl convegno-dibattito organizzato dalla Fondazione Ambrosianeum e dal Centro Internazionale di Studi sulla Sindone ospita alcuni dei maggiori esperti per offrire una panoramica aggiornata degli studi sulla Sindone nelle varie discipline coinvolte: Storia\, Teologia\, Medicina\, Chimica\, Fisica\, e come campo di analisi dei rapporti fra Scienza e Fede.   
URL:https://ambrosianeum.org/evento/sindone-un-mistero-ancora-da-svelare/
LOCATION:Fondazione Ambrosianeum\, Sala Falck\, Via delle Ore\, 3\, Milano\, Italia
ATTACH;FMTTYPE=image/jpeg:https://ambrosianeum.org/wp-content/uploads/2023/05/sindone-un-mistero-ancora-da-svelare.jpg
END:VEVENT
END:VCALENDAR