BEGIN:VCALENDAR
VERSION:2.0
PRODID:-//Ambrosianeum Fondazione Culturale - ECPv6.15.17.1//NONSGML v1.0//EN
CALSCALE:GREGORIAN
METHOD:PUBLISH
X-WR-CALNAME:Ambrosianeum Fondazione Culturale
X-ORIGINAL-URL:https://ambrosianeum.org
X-WR-CALDESC:Eventi per Ambrosianeum Fondazione Culturale
REFRESH-INTERVAL;VALUE=DURATION:PT1H
X-Robots-Tag:noindex
X-PUBLISHED-TTL:PT1H
BEGIN:VTIMEZONE
TZID:Europe/Rome
BEGIN:DAYLIGHT
TZOFFSETFROM:+0100
TZOFFSETTO:+0200
TZNAME:CEST
DTSTART:20200329T010000
END:DAYLIGHT
BEGIN:STANDARD
TZOFFSETFROM:+0200
TZOFFSETTO:+0100
TZNAME:CET
DTSTART:20201025T010000
END:STANDARD
BEGIN:DAYLIGHT
TZOFFSETFROM:+0100
TZOFFSETTO:+0200
TZNAME:CEST
DTSTART:20210328T010000
END:DAYLIGHT
BEGIN:STANDARD
TZOFFSETFROM:+0200
TZOFFSETTO:+0100
TZNAME:CET
DTSTART:20211031T010000
END:STANDARD
BEGIN:DAYLIGHT
TZOFFSETFROM:+0100
TZOFFSETTO:+0200
TZNAME:CEST
DTSTART:20220327T010000
END:DAYLIGHT
BEGIN:STANDARD
TZOFFSETFROM:+0200
TZOFFSETTO:+0100
TZNAME:CET
DTSTART:20221030T010000
END:STANDARD
END:VTIMEZONE
BEGIN:VEVENT
DTSTART;VALUE=DATE:20210629
DTEND;VALUE=DATE:20210630
DTSTAMP:20260419T131031
CREATED:20210629T121652Z
LAST-MODIFIED:20210629T121652Z
UID:2187-1624924800-1625011199@ambrosianeum.org
SUMMARY:PiantaunaPianta
DESCRIPTION:L’iniziativa si rivolge ai giovani tra i 18 ed i 30 anni e si articola in otto incontri mensili da ottobre 2020 a maggio 2021 presso la sacrestia artistica della Chiesa del Carmine in Milano\, in live streaming; l’obiettivo è di portare i giovani a porsi domande ed agire nei confronti della natura. \nOrganizzatori: Servizio per i Giovani e l’Università della Diocesi di Milano\, Chiesa del Carmine\, Fuci Milano\, Blue Joint Film\, Servizio per la Pastorale Sociale e del Lavoro\, Comunità Pachamama\, Fondazione Culturale Ambrosianeum \n  \nN.B. A causa dell’emergenza sanitaria in corso la partecipazione non richiede alcuna iscrizione: per le persone interessate basterà collegarsi al canale Youtube ‘Pastorale Giovanile FOM Milano’\, dove gli incontri saranno trasmessi in diretta streaming alle ore 21.00 (oppure nei giorni successivi: il video resterà disponibile all’interno delle stessa pagina di YouTube). \n  \nInformazioni: \nServizio per i Giovani e l’Università Via San Carlo\, 2 – 20822 Seveso (MB) \nTel. 0362 647500 – E-mail: giovani@diocesi.milano.it \n  \n\nProgramma del ciclo eventi\nTutte le informazioni\n\n\nRassegna Stampa\n\n\nAvvenire\nAvvenire-2
URL:https://ambrosianeum.org/evento/piantaunapianta/
CATEGORIES:PiantaunaPianta
END:VEVENT
END:VCALENDAR