BEGIN:VCALENDAR
VERSION:2.0
PRODID:-//Ambrosianeum Fondazione Culturale - ECPv6.15.17.1//NONSGML v1.0//EN
CALSCALE:GREGORIAN
METHOD:PUBLISH
X-WR-CALNAME:Ambrosianeum Fondazione Culturale
X-ORIGINAL-URL:https://ambrosianeum.org
X-WR-CALDESC:Eventi per Ambrosianeum Fondazione Culturale
REFRESH-INTERVAL;VALUE=DURATION:PT1H
X-Robots-Tag:noindex
X-PUBLISHED-TTL:PT1H
BEGIN:VTIMEZONE
TZID:Europe/Rome
BEGIN:DAYLIGHT
TZOFFSETFROM:+0100
TZOFFSETTO:+0200
TZNAME:CEST
DTSTART:20200329T010000
END:DAYLIGHT
BEGIN:STANDARD
TZOFFSETFROM:+0200
TZOFFSETTO:+0100
TZNAME:CET
DTSTART:20201025T010000
END:STANDARD
BEGIN:DAYLIGHT
TZOFFSETFROM:+0100
TZOFFSETTO:+0200
TZNAME:CEST
DTSTART:20210328T010000
END:DAYLIGHT
BEGIN:STANDARD
TZOFFSETFROM:+0200
TZOFFSETTO:+0100
TZNAME:CET
DTSTART:20211031T010000
END:STANDARD
BEGIN:DAYLIGHT
TZOFFSETFROM:+0100
TZOFFSETTO:+0200
TZNAME:CEST
DTSTART:20220327T010000
END:DAYLIGHT
BEGIN:STANDARD
TZOFFSETFROM:+0200
TZOFFSETTO:+0100
TZNAME:CET
DTSTART:20221030T010000
END:STANDARD
END:VTIMEZONE
BEGIN:VEVENT
DTSTART;TZID=Europe/Rome:20211202T173000
DTEND;TZID=Europe/Rome:20211202T193000
DTSTAMP:20260421T154642
CREATED:20230618T104252Z
LAST-MODIFIED:20230618T104252Z
UID:3238-1638466200-1638473400@ambrosianeum.org
SUMMARY:PERCHE' FIDARSI DELLA SCIENZA?
DESCRIPTION:Introduce e coordina: \nFerruccio DE BORTOLI\, Giornalista\, Presidente Associazione VIDAS di Milano\, Editorialista \n \nIntervengono:  \nElena CATTANEO\, Senatrice a vita\, Ordinario di Farmacologia Dipartimento di Bioscienze\, Universita’ degli Studi di Milano\, Istituto Nazionale di Genetica Molecolare \nAlberto MANTOVANI\, Direttore Scientifico Istituto Clinico Humanitas\, Milano; Professore Emerito Humanitas University \nFranco RIVA\, Ordinario di Filosofia morale\, Etica sociale\, Etica e Antropologia filosofica\, Facolta’ di Lettere e Filosofia Università Cattolica del Sacro Cuore di Milano \n\nProgramma
URL:https://ambrosianeum.org/evento/perche-fidarsi-della-scienza/
LOCATION:Fondazione Ambrosianeum\, Sala Falck\, Via delle Ore\, 3\, Milano\, Italia
CATEGORIES:LE CONQUISTE DELLA MEDICINA AL SERVIZIO DELLA PERSONA
ATTACH;FMTTYPE=image/jpeg:https://ambrosianeum.org/wp-content/uploads/2023/06/perche-fidarsi-della-scienza.jpg
END:VEVENT
END:VCALENDAR