BEGIN:VCALENDAR
VERSION:2.0
PRODID:-//Ambrosianeum Fondazione Culturale - ECPv6.15.17.1//NONSGML v1.0//EN
CALSCALE:GREGORIAN
METHOD:PUBLISH
X-WR-CALNAME:Ambrosianeum Fondazione Culturale
X-ORIGINAL-URL:https://ambrosianeum.org
X-WR-CALDESC:Eventi per Ambrosianeum Fondazione Culturale
REFRESH-INTERVAL;VALUE=DURATION:PT1H
X-Robots-Tag:noindex
X-PUBLISHED-TTL:PT1H
BEGIN:VTIMEZONE
TZID:Europe/Rome
BEGIN:DAYLIGHT
TZOFFSETFROM:+0100
TZOFFSETTO:+0200
TZNAME:CEST
DTSTART:20200329T010000
END:DAYLIGHT
BEGIN:STANDARD
TZOFFSETFROM:+0200
TZOFFSETTO:+0100
TZNAME:CET
DTSTART:20201025T010000
END:STANDARD
BEGIN:DAYLIGHT
TZOFFSETFROM:+0100
TZOFFSETTO:+0200
TZNAME:CEST
DTSTART:20210328T010000
END:DAYLIGHT
BEGIN:STANDARD
TZOFFSETFROM:+0200
TZOFFSETTO:+0100
TZNAME:CET
DTSTART:20211031T010000
END:STANDARD
BEGIN:DAYLIGHT
TZOFFSETFROM:+0100
TZOFFSETTO:+0200
TZNAME:CEST
DTSTART:20220327T010000
END:DAYLIGHT
BEGIN:STANDARD
TZOFFSETFROM:+0200
TZOFFSETTO:+0100
TZNAME:CET
DTSTART:20221030T010000
END:STANDARD
END:VTIMEZONE
BEGIN:VEVENT
DTSTART;TZID=Europe/Rome:20211012T200000
DTEND;TZID=Europe/Rome:20211012T200000
DTSTAMP:20260421T113718
CREATED:20211012T122117Z
LAST-MODIFIED:20211012T122117Z
UID:2192-1634068800-1634068800@ambrosianeum.org
SUMMARY:LES ENFANTS ET LES SORTILEGES
DESCRIPTION:Concerto organizzato da Ars Gratia Artis in collaborazione con Ambrosianeum \n\nMartedì 12 Ottobre 2021 ore 20:00\n\nFondazione Ambrosianeum : Sala Falck\n\nL’innovazione musicale in Francia all’inizio del Novecento attraverso il genio di Debussy e Ravel \nViolino: Klara FLIEDER \nVioloncello: Cristophe Pantillon \nPianoforte: Massimo Giuseppe Bianchi \n  \nPer prenotazioni e acquisti:  \nSegreteria Associazione Ars Gratia Artis \ntel. 375.5940241 \ne-mail: info@lapiccolastagione.com \n\nProgramma\nViviMilano
URL:https://ambrosianeum.org/evento/les-enfants-et-les-sortileges/
LOCATION:Fondazione Ambrosianeum\, Sala Falck\, Via delle Ore\, 3\, Milano\, Italia
ATTACH;FMTTYPE=image/jpeg:https://ambrosianeum.org/wp-content/uploads/2023/05/les-enfants-et-les-sortileges.jpg
END:VEVENT
END:VCALENDAR