BEGIN:VCALENDAR
VERSION:2.0
PRODID:-//Ambrosianeum Fondazione Culturale - ECPv6.15.17.1//NONSGML v1.0//EN
CALSCALE:GREGORIAN
METHOD:PUBLISH
X-WR-CALNAME:Ambrosianeum Fondazione Culturale
X-ORIGINAL-URL:https://ambrosianeum.org
X-WR-CALDESC:Eventi per Ambrosianeum Fondazione Culturale
REFRESH-INTERVAL;VALUE=DURATION:PT1H
X-Robots-Tag:noindex
X-PUBLISHED-TTL:PT1H
BEGIN:VTIMEZONE
TZID:UTC
BEGIN:STANDARD
TZOFFSETFROM:+0000
TZOFFSETTO:+0000
TZNAME:UTC
DTSTART:20230101T000000
END:STANDARD
END:VTIMEZONE
BEGIN:VEVENT
DTSTART;TZID=UTC:20240320T183000
DTEND;TZID=UTC:20240320T193000
DTSTAMP:20260421T101516
CREATED:20231005T092303Z
LAST-MODIFIED:20231005T092409Z
UID:4339-1710959400-1710963000@ambrosianeum.org
SUMMARY:Fluidi\, strutture e loro interazioni
DESCRIPTION:Corso su LA MATEMATICA NELLA SOCIETA MODERNA\, a cura di Claudio Citrini e Tiziana Collini\, con il patrocinio del Politecnico di Milano. \n  \nOttavo appuntamento – 20 Marzo alle ore 18:30 \n  \nFluidi\, strutture e loro interazioni \nRelatore: Filippo Gazzola \nLa partecipazione è libera previa iscrizione all’indirizzo e-mail info@ambrosianeum.org \n 
URL:https://ambrosianeum.org/evento/la-matematica-per-fare-scelte-sociali-consapevoli-copy-copy-copy-copy-copy-copy-copy/
LOCATION:Fondazione Ambrosianeum\, Sala Falck\, Via delle Ore\, 3\, Milano\, Italia
CATEGORIES:LA MATEMATICA NELLA SOCIETA MODERNA
ATTACH;FMTTYPE=image/jpeg:https://ambrosianeum.org/wp-content/uploads/2023/10/Locandina-A4-Matematica_page-0001.jpg
END:VEVENT
END:VCALENDAR