BEGIN:VCALENDAR
VERSION:2.0
PRODID:-//Ambrosianeum Fondazione Culturale - ECPv6.15.17.1//NONSGML v1.0//EN
CALSCALE:GREGORIAN
METHOD:PUBLISH
X-WR-CALNAME:Ambrosianeum Fondazione Culturale
X-ORIGINAL-URL:https://ambrosianeum.org
X-WR-CALDESC:Eventi per Ambrosianeum Fondazione Culturale
REFRESH-INTERVAL;VALUE=DURATION:PT1H
X-Robots-Tag:noindex
X-PUBLISHED-TTL:PT1H
BEGIN:VTIMEZONE
TZID:Europe/Rome
BEGIN:DAYLIGHT
TZOFFSETFROM:+0100
TZOFFSETTO:+0200
TZNAME:CEST
DTSTART:20210328T010000
END:DAYLIGHT
BEGIN:STANDARD
TZOFFSETFROM:+0200
TZOFFSETTO:+0100
TZNAME:CET
DTSTART:20211031T010000
END:STANDARD
BEGIN:DAYLIGHT
TZOFFSETFROM:+0100
TZOFFSETTO:+0200
TZNAME:CEST
DTSTART:20220327T010000
END:DAYLIGHT
BEGIN:STANDARD
TZOFFSETFROM:+0200
TZOFFSETTO:+0100
TZNAME:CET
DTSTART:20221030T010000
END:STANDARD
BEGIN:DAYLIGHT
TZOFFSETFROM:+0100
TZOFFSETTO:+0200
TZNAME:CEST
DTSTART:20230326T010000
END:DAYLIGHT
BEGIN:STANDARD
TZOFFSETFROM:+0200
TZOFFSETTO:+0100
TZNAME:CET
DTSTART:20231029T010000
END:STANDARD
END:VTIMEZONE
BEGIN:VEVENT
DTSTART;TZID=Europe/Rome:20220120T173000
DTEND;TZID=Europe/Rome:20220120T190000
DTSTAMP:20260422T003115
CREATED:20230618T105218Z
LAST-MODIFIED:20230618T105218Z
UID:3247-1642699800-1642705200@ambrosianeum.org
SUMMARY:INTELLIGENZA ARTIFICIALE
DESCRIPTION:Incontro in collaborazione con CIPOMO (Collegio Italiano Primari Oncologi Medici Ospedalieri) \n\nNuove tecnologie al servizio del bene comune \n\nATTENZIONE: L’INCONTRO E’ RINVIATO AL 12 MAGGIO 2022\n\n\nIntroduce e coordina: \nPaolo NUCCI\, Ordinario di Oftalmologia Università degli Studi di Milano \nIntervengono: \nPaolo BENANTI\, Professore Facoltà di Teologia\, Dipartimento Teologia morale Pontificia Università Gregoriana\, Roma: “Opportunita’ e rischi in medicina” \nAndrea CAROBENE\, Head of Digital and Data Management United Risk Management S.p.a.\, Milano: “Macchine più intelligenti dell’uomo? Interrogativi di ordine antropologico\, filosofico ed etico” \nStefano QUINTARELLI\, Chairman of the Advisory group on Advanced Technologies UN/CEFACT\, Ginevra: “Cos’e’ davvero\, come funziona\, campi di applicazione” \n\n  \n\n\nCiclo di Incontri:\n\n\nLE CONQUISTE DELLA MEDICINA AL SERVIZIO DELLA PERSONA\n\n\nUn nuovo “contenitore” organizzato dalle Fondazioni Ambrosianeum e Matarelli a cura di Giorgio LAMBERTENGHI DELILIERS: nove incontri (da ottobre 2021 ad aprile 2022) che propongono altrettanti momenti di riflessione etica e sociale su argomenti “caldi” della medicina contemporanea: si inizia con adolescenti e bullismo o cyberbullismo e si continua con il ritiro sociale indotto dalla pandemia\, la fiducia nella scienza\, l’urgenza di ri-umanizzare la medicina\, l’intelligenza artificiale\, l’eutanasia\, i rischi connessi all’inquinamento elettromagnetico e il tatuaggio nella cultura contemporanea\, per finire con il  controverso tema dell’utero in affitto. \nProgramma del ciclo eventi\nComunicato Stampa\n\n\nS.I.R.\nIntervista di Radio Marconi a Michela Zucca\nSIR 21.3.2022\n\n\nLa Rassegna Stampa\n\n\nChiesadiMilano.it\nAvvenire\nCorriere della Sera\nTuttoMilano (Repubblica)\nAvvenire\nAvvenire.it\nIl Giorno\nAvvenire\nAvvenire\nTuttoMilano – Repubblica\nwww.chiesadimilano.it\nAvvenire 28.11.2021\nChiesadiMilano.it 25.1.2022\nS.I.R. 29.1.2022\nAgenzia Nova 30.1.2022\nAvvenire 30.1.2022\nCorriere 31.1.2022\nChiesadiMilano.it 22.2.2022\nCorriere della Sera 10.3.2022\nCorriere della Sera 7.4.22\nAvvenire 10.4.2022\nAvvenire 8.5.22
URL:https://ambrosianeum.org/evento/intelligenza-artificiale/
LOCATION:Fondazione Ambrosianeum\, Sala Falck\, Via delle Ore\, 3\, Milano\, Italia
CATEGORIES:LE CONQUISTE DELLA MEDICINA AL SERVIZIO DELLA PERSONA
ATTACH;FMTTYPE=image/jpeg:https://ambrosianeum.org/wp-content/uploads/2023/06/intelligenza-artificiale.jpg
END:VEVENT
END:VCALENDAR