BEGIN:VCALENDAR
VERSION:2.0
PRODID:-//Ambrosianeum Fondazione Culturale - ECPv6.15.17.1//NONSGML v1.0//EN
CALSCALE:GREGORIAN
METHOD:PUBLISH
X-WR-CALNAME:Ambrosianeum Fondazione Culturale
X-ORIGINAL-URL:https://ambrosianeum.org
X-WR-CALDESC:Eventi per Ambrosianeum Fondazione Culturale
REFRESH-INTERVAL;VALUE=DURATION:PT1H
X-Robots-Tag:noindex
X-PUBLISHED-TTL:PT1H
BEGIN:VTIMEZONE
TZID:UTC
BEGIN:STANDARD
TZOFFSETFROM:+0000
TZOFFSETTO:+0000
TZNAME:UTC
DTSTART:20240101T000000
END:STANDARD
END:VTIMEZONE
BEGIN:VEVENT
DTSTART;TZID=UTC:20251019T170000
DTEND;TZID=UTC:20251019T200000
DTSTAMP:20260421T100837
CREATED:20251010T101633Z
LAST-MODIFIED:20251017T125214Z
UID:5692-1760893200-1760904000@ambrosianeum.org
SUMMARY:In amore e in guerra. Trio Ekelon
DESCRIPTION:Con In amore e in guerra il Trio Èkelon intreccia Eros e Thanatos in un viaggio che unisce la profondità romantica e il dramma novecentesco. La Vallée d’Obermann di Liszt si apre come un paesaggio interiore\, sospeso tra desiderio e smarrimento\, un dialogo silenzioso con la propria anima. A seguire\, il Trio n. 2 op. 67 di Šostakovič\, di cui quest’anno ricorre il 50° anniversario della morte: composto nel cuore della seconda guerra mondiale\, diventa grido e lamento\, ma anche resistenza e testimonianza. Due opere che raccontano l’amore e la guerra\, la fragilità e la speranza\, in un intreccio di emozioni che parla ancora al presente. \nTrio Èkelon\nMedeya Kalantarava\, violino\nMaria Margherita Paci\, violoncello\nGianmarco Tonelli\, pianoforte \nProgramma\nFranz Liszt\nTristia (La Vallée d’Obermann) \nDmitrij Šostakovič\nTrio n. 2 in mi minore\, op. 67\nAndante – Moderato\nAllegro con brio\nLargo\nAllegretto \nPer acquistare il biglietto\, clicca QUI
URL:https://ambrosianeum.org/evento/in-amore-e-in-guerra-trio-ekelon/
LOCATION:Fondazione Ambrosianeum\, Sala Falck\, Via delle Ore\, 3\, Milano\, Italia
CATEGORIES:MILANO CLASSICA
ATTACH;FMTTYPE=image/jpeg:https://ambrosianeum.org/wp-content/uploads/2025/10/IMG-20251010-WA0003-scaled.jpg
ORGANIZER;CN="Fondazione Ambrosianeum ETS":MAILTO:info@ambrosianeum.org
END:VEVENT
END:VCALENDAR