BEGIN:VCALENDAR
VERSION:2.0
PRODID:-//Ambrosianeum Fondazione Culturale - ECPv6.15.17.1//NONSGML v1.0//EN
CALSCALE:GREGORIAN
METHOD:PUBLISH
X-WR-CALNAME:Ambrosianeum Fondazione Culturale
X-ORIGINAL-URL:https://ambrosianeum.org
X-WR-CALDESC:Eventi per Ambrosianeum Fondazione Culturale
REFRESH-INTERVAL;VALUE=DURATION:PT1H
X-Robots-Tag:noindex
X-PUBLISHED-TTL:PT1H
BEGIN:VTIMEZONE
TZID:Europe/Rome
BEGIN:DAYLIGHT
TZOFFSETFROM:+0100
TZOFFSETTO:+0200
TZNAME:CEST
DTSTART:20190331T010000
END:DAYLIGHT
BEGIN:STANDARD
TZOFFSETFROM:+0200
TZOFFSETTO:+0100
TZNAME:CET
DTSTART:20191027T010000
END:STANDARD
BEGIN:DAYLIGHT
TZOFFSETFROM:+0100
TZOFFSETTO:+0200
TZNAME:CEST
DTSTART:20200329T010000
END:DAYLIGHT
BEGIN:STANDARD
TZOFFSETFROM:+0200
TZOFFSETTO:+0100
TZNAME:CET
DTSTART:20201025T010000
END:STANDARD
BEGIN:DAYLIGHT
TZOFFSETFROM:+0100
TZOFFSETTO:+0200
TZNAME:CEST
DTSTART:20210328T010000
END:DAYLIGHT
BEGIN:STANDARD
TZOFFSETFROM:+0200
TZOFFSETTO:+0100
TZNAME:CET
DTSTART:20211031T010000
END:STANDARD
END:VTIMEZONE
BEGIN:VEVENT
DTSTART;TZID=Europe/Rome:20200213T180000
DTEND;TZID=Europe/Rome:20200213T190000
DTSTAMP:20260419T190716
CREATED:20200120T180026Z
LAST-MODIFIED:20200120T180026Z
UID:3385-1581616800-1581620400@ambrosianeum.org
SUMMARY:Incontri di cultura e spiritualità: 11
DESCRIPTION:CORSO BIBLICO A CURA DI DON GIOVANNI GIAVINI \nPer completare il programma dell’anno scorso si riprenderà la lettura del Vangelo di Luca (il più bello dei quattro Vangeli?) con l’esame dei capitoli 10-24. \nDapprima però si prenderà in esame il misterioso libro dell’Apocalisse approfondendone storia\, contesto\, genere letterario\, finalità e contenuti. \nIl corso si terra’ il LUNEDI’ (ore 18.00-19.00) dal 7 ottobre 2019 al 16 marzo 2020. \nPer la partecipazione al ciclo è gradito un contributo a partire da 40 euro \n  \n\nInvito\nComunicato stampa
URL:https://ambrosianeum.org/evento/dal-vangelo-di-san-luca-allapocalisse-11-2/
LOCATION:Fondazione Ambrosianeum\, Sala Lazzati
CATEGORIES:Dal Vangelo di San Luca all'Apocalisse/2
END:VEVENT
END:VCALENDAR