BEGIN:VCALENDAR
VERSION:2.0
PRODID:-//Ambrosianeum Fondazione Culturale - ECPv6.15.17.1//NONSGML v1.0//EN
CALSCALE:GREGORIAN
METHOD:PUBLISH
X-WR-CALNAME:Ambrosianeum Fondazione Culturale
X-ORIGINAL-URL:https://ambrosianeum.org
X-WR-CALDESC:Eventi per Ambrosianeum Fondazione Culturale
REFRESH-INTERVAL;VALUE=DURATION:PT1H
X-Robots-Tag:noindex
X-PUBLISHED-TTL:PT1H
BEGIN:VTIMEZONE
TZID:Europe/Rome
BEGIN:DAYLIGHT
TZOFFSETFROM:+0100
TZOFFSETTO:+0200
TZNAME:CEST
DTSTART:20210328T010000
END:DAYLIGHT
BEGIN:STANDARD
TZOFFSETFROM:+0200
TZOFFSETTO:+0100
TZNAME:CET
DTSTART:20211031T010000
END:STANDARD
BEGIN:DAYLIGHT
TZOFFSETFROM:+0100
TZOFFSETTO:+0200
TZNAME:CEST
DTSTART:20220327T010000
END:DAYLIGHT
BEGIN:STANDARD
TZOFFSETFROM:+0200
TZOFFSETTO:+0100
TZNAME:CET
DTSTART:20221030T010000
END:STANDARD
BEGIN:DAYLIGHT
TZOFFSETFROM:+0100
TZOFFSETTO:+0200
TZNAME:CEST
DTSTART:20230326T010000
END:DAYLIGHT
BEGIN:STANDARD
TZOFFSETFROM:+0200
TZOFFSETTO:+0100
TZNAME:CET
DTSTART:20231029T010000
END:STANDARD
END:VTIMEZONE
BEGIN:VEVENT
DTSTART;TZID=Europe/Rome:20220315T180000
DTEND;TZID=Europe/Rome:20220315T200000
DTSTAMP:20260421T211509
CREATED:20230607T091056Z
LAST-MODIFIED:20230607T091056Z
UID:3173-1647367200-1647374400@ambrosianeum.org
SUMMARY:DAL 1980 AL 2000: I PENTAGRAMMI DELLA MEMORIA
DESCRIPTION:Schindler’s list\, Mission\, Titanic\, La vita è bella \n\nSede o online a seconda delle disposizioni sanitarie in vigore\n\nQuarto incontro del ciclo \n\n\n\n\nSTORIA DELLA COLONNA SONORA NEL CINEMA\n\n\nUn ciclo in cinque incontri tenuti dal M°Adriano Bassi\, pianista\, compositore\, direttore d’orchestra e direttore del Comitato milanese della Societa’ Dante Alighieri\, sull’evoluzione della musica da film dalle origini al 2022. \nSono richiesti iscrizione obbligatoria e contributo libero a partire da 30 euro. \nIl corso si svolgerà nel rispetto delle disposizioni sanitarie in vigore al momento degli incontri. \n\n\n\nProgramma del ciclo eventi\nComunicato Stampa\n\n\nColonneSonore.net\nFamigliaCristiana.it\n\n\nLa Rassegna Stampa\n\n\nChiesadiMilano.it\nLa Provincia di Como\nLa Provincia di Lecco\nLa Provincia di Sondrio\nViviMilano.it\nTuttoMilano – La Repubblica
URL:https://ambrosianeum.org/evento/dal-1980-al-2000-i-pentagrammi-della-memoria/
CATEGORIES:STORIA DELLA COLONNA SONORA NEL CINEMA
ATTACH;FMTTYPE=image/jpeg:https://ambrosianeum.org/wp-content/uploads/2023/06/dal-1980-al-2000-i-pentagrammi-della-memoria.jpg
END:VEVENT
END:VCALENDAR