BEGIN:VCALENDAR
VERSION:2.0
PRODID:-//Ambrosianeum Fondazione Culturale - ECPv6.15.17.1//NONSGML v1.0//EN
CALSCALE:GREGORIAN
METHOD:PUBLISH
X-WR-CALNAME:Ambrosianeum Fondazione Culturale
X-ORIGINAL-URL:https://ambrosianeum.org
X-WR-CALDESC:Eventi per Ambrosianeum Fondazione Culturale
REFRESH-INTERVAL;VALUE=DURATION:PT1H
X-Robots-Tag:noindex
X-PUBLISHED-TTL:PT1H
BEGIN:VTIMEZONE
TZID:Europe/Rome
BEGIN:DAYLIGHT
TZOFFSETFROM:+0100
TZOFFSETTO:+0200
TZNAME:CEST
DTSTART:20210328T010000
END:DAYLIGHT
BEGIN:STANDARD
TZOFFSETFROM:+0200
TZOFFSETTO:+0100
TZNAME:CET
DTSTART:20211031T010000
END:STANDARD
BEGIN:DAYLIGHT
TZOFFSETFROM:+0100
TZOFFSETTO:+0200
TZNAME:CEST
DTSTART:20220327T010000
END:DAYLIGHT
BEGIN:STANDARD
TZOFFSETFROM:+0200
TZOFFSETTO:+0100
TZNAME:CET
DTSTART:20221030T010000
END:STANDARD
BEGIN:DAYLIGHT
TZOFFSETFROM:+0100
TZOFFSETTO:+0200
TZNAME:CEST
DTSTART:20230326T010000
END:DAYLIGHT
BEGIN:STANDARD
TZOFFSETFROM:+0200
TZOFFSETTO:+0100
TZNAME:CET
DTSTART:20231029T010000
END:STANDARD
END:VTIMEZONE
BEGIN:VEVENT
DTSTART;TZID=Europe/Rome:20220301T180000
DTEND;TZID=Europe/Rome:20220301T200000
DTSTAMP:20260421T225530
CREATED:20230607T090803Z
LAST-MODIFIED:20230607T090803Z
UID:3456-1646157600-1646164800@ambrosianeum.org
SUMMARY:DAL 1955 AL 1980: NOTE DA COLOSSAL
DESCRIPTION:Moon River\, Dottor Zivago\, Il Gattopardo\, 8 1/2\, Anonimo Veneziano\, Il Padrino\, Alfie\, Giu’ la testa \n\nSede o online a seconda delle disposizioni sanitarie in vigore\n\nTerzo incontro del ciclo \n\n\n\nSTORIA DELLA COLONNA SONORA NEL CINEMA\n\n\nUn ciclo in cinque incontri tenuti dal M°Adriano Bassi\, pianista\, compositore\, direttore d’orchestra e direttore del Comitato milanese della Societa’ Dante Alighieri\, sull’evoluzione della musica da film dalle origini al 2022. \nSono richiesti iscrizione obbligatoria e contributo libero a partire da 30 euro. \nIl corso si svolgerà nel rispetto delle disposizioni sanitarie in vigore al momento degli incontri. \n\n\n\nProgramma del ciclo eventi\nComunicato Stampa\n\n\nColonneSonore.net\nFamigliaCristiana.it\n\n\nLa Rassegna Stampa\n\n\nChiesadiMilano.it\nLa Provincia di Como\nLa Provincia di Lecco\nLa Provincia di Sondrio\nViviMilano.it\nTuttoMilano – La Repubblica
URL:https://ambrosianeum.org/evento/dal-1955-al-1980-note-da-colossal-2/
CATEGORIES:STORIA DELLA COLONNA SONORA NEL CINEMA
ATTACH;FMTTYPE=image/jpeg:https://ambrosianeum.org/wp-content/uploads/2023/06/dal-1955-al-1980-note-da-colossal.jpg
END:VEVENT
END:VCALENDAR