BEGIN:VCALENDAR
VERSION:2.0
PRODID:-//Ambrosianeum Fondazione Culturale - ECPv6.15.17.1//NONSGML v1.0//EN
CALSCALE:GREGORIAN
METHOD:PUBLISH
X-WR-CALNAME:Ambrosianeum Fondazione Culturale
X-ORIGINAL-URL:https://ambrosianeum.org
X-WR-CALDESC:Eventi per Ambrosianeum Fondazione Culturale
REFRESH-INTERVAL;VALUE=DURATION:PT1H
X-Robots-Tag:noindex
X-PUBLISHED-TTL:PT1H
BEGIN:VTIMEZONE
TZID:UTC
BEGIN:STANDARD
TZOFFSETFROM:+0000
TZOFFSETTO:+0000
TZNAME:UTC
DTSTART:20240101T000000
END:STANDARD
END:VTIMEZONE
BEGIN:VEVENT
DTSTART;TZID=UTC:20250929T180000
DTEND;TZID=UTC:20250929T200000
DTSTAMP:20260423T193238
CREATED:20250919T132252Z
LAST-MODIFIED:20250929T105830Z
UID:5617-1759168800-1759176000@ambrosianeum.org
SUMMARY:Buon Compleanno CARAVAGGIO
DESCRIPTION:Nel giorno della sua nascita\, festeggiamo il grande pittore nella città che gli ha dato i natali.\ncon Luca Frigerio\ninterventi musicali al pianoforte del Maestro Luca Tempella \nIl fascino del grande pittore\, della sua vita esagerata e disperata\, è infatti ancora vivo nell’immaginario collettivo. Anche se ridurre la figura di Michelangelo Merisi allo stereotipo di “artista maledetto” impedisce di comprendere veramente la portata rivoluzionaria della sua pittura\, di quel suo “realismo” d’origine morale\, di quella tensione tra luce e ombra come paradigma della Salvezza che vibra in ognuna delle sue opere straordinarie. \nRipercorriamo le tappe fondamentali della sua vita e della sua poetica attraverso i capolavori con protagonista le donne. \nScarica qui la locandina
URL:https://ambrosianeum.org/evento/buon-compleanno-caravaggio-2/
LOCATION:Fondazione Ambrosianeum\, Sala Falck\, Via delle Ore\, 3\, Milano\, Italia
CATEGORIES:Storia dell'arte
ATTACH;FMTTYPE=image/jpeg:https://ambrosianeum.org/wp-content/uploads/2025/09/Buon-compleanno-Caravaggio-29-settembre-2025_page-0001-scaled.jpg
ORGANIZER;CN="Fondazione Ambrosianeum ETS":MAILTO:info@ambrosianeum.org
END:VEVENT
END:VCALENDAR