BEGIN:VCALENDAR
VERSION:2.0
PRODID:-//Ambrosianeum Fondazione Culturale - ECPv6.15.17.1//NONSGML v1.0//EN
CALSCALE:GREGORIAN
METHOD:PUBLISH
X-ORIGINAL-URL:https://ambrosianeum.org
X-WR-CALDESC:Eventi per Ambrosianeum Fondazione Culturale
REFRESH-INTERVAL;VALUE=DURATION:PT1H
X-Robots-Tag:noindex
X-PUBLISHED-TTL:PT1H
BEGIN:VTIMEZONE
TZID:UTC
BEGIN:STANDARD
TZOFFSETFROM:+0000
TZOFFSETTO:+0000
TZNAME:UTC
DTSTART:20240101T000000
END:STANDARD
END:VTIMEZONE
BEGIN:VEVENT
DTSTART;TZID=UTC:20260214T094500
DTEND;TZID=UTC:20260214T130000
DTSTAMP:20260422T183835
CREATED:20260204T102411Z
LAST-MODIFIED:20260205T112709Z
UID:5952-1771062300-1771074000@ambrosianeum.org
SUMMARY:“Abitare è condividere. La casa tra incontro\, dignità e cura”\, la seconda tappa del percorso socio-politico della Diocesi di Milano per leggere il presente e generare futuro
DESCRIPTION:Sabato 14 febbraio alle ore 9.45 la seconda tappa del percorso socio-politico che vuole affrontare il tema dell’abitare oggi.\n“Casa” è un luogo di dignità\, creatività e responsabilità condivisa. \nUn incontro con Silvano Petrosino\, filosofo\, Valeria Negrini\, Forum Terzo Settore Lombardia\, Mauro Guerra\, presidente di ANCI Lombardia\, e mons. Luca Bressan\, vicario episcopale per la Cultura\, la Carità\, la Missione e l’Azione Sociale presso la Curia di Milano. \nChe cosa significa oggi abitare? In un tempo segnato da solitudini urbane\, disuguaglianze abitative e città che spesso producono sofferenza\, la casa torna a interrogare profondamente il nostro modo di vivere\, di stare insieme e di costruire comunità. A questa domanda intende rispondere l’incontro “Abitare è condividere. La casa tra incontro\, dignità e cura”. L’evento si inserisce nella seconda sessione del corso “Custodire l’umano: terra\, casa e lavoro”\, promosso dal Servizio per la Pastorale Sociale e il Lavoro dell’Arcidiocesi di Milano\, come seconda tappa di un percorso socio-politico dedicato al tema dell’abitare oggi. \nL’abitare non è solo un fatto privato o abitativo\, ma un nodo centrale delle sfide sociali contemporanee: accoglienza\, inclusione\, dignità e cura sono le parole chiave per rispondere a realtà complesse come la marginalità\, la precarietà e la frammentazione delle comunità. Questo incontro vuole essere uno spazio di riflessione e confronto utile per chi\, a diversi livelli\, opera per costruire città più accoglienti e politiche abitative più giuste\, in cui la casa diventi davvero un luogo di crescita umana e solidarietà. \nLa casa non è solo uno spazio fisico\, ma un luogo umano e simbolico: è dignità\, responsabilità condivisa\, accoglienza. È l’ambiente in cui la vita prende forma attraverso le relazioni\, l’incontro con l’altro e la possibilità di sentirsi parte di una comunità. Come ricorda Papa Francesco\, la casa rappresenta «la ricchezza umana più preziosa»\, il luogo in cui si impara a ricevere e donare amore. \nCuore dell’incontro sarà l’approfondimento filosofico di Silvano Petrosino\, docente all’Università Cattolica del Sacro Cuore\, che guiderà una riflessione intensa sul significato dell’abitare come dimensione essenziale dell’esistenza umana. L’uomo non solo abita\, ma è anche abitato: dall’alterità dell’altro\, dall’interiorità\, dall’Altro. È questa apertura costitutiva che rende la casa qualcosa di diverso da una tana o da uno spazio chiuso e difensivo\, ma anche da un luogo totalmente aperto e privo di intimità. \nL’abitare autentico\, infatti\, chiede una giusta misura: tra chiusura e apertura\, tra protezione e ospitalità\, tra coltivare e custodire. Una prospettiva che illumina anche le grandi questioni sociali del nostro tempo — dall’accoglienza alle politiche abitative\, dal lavoro all’economia — richiamando la responsabilità di costruire città e comunità che mettano davvero la persona al centro. \nLa mattinata si aprirà con un momento di preghiera e meditazione spirituale. Un’occasione preziosa per fermarsi a riflettere su una domanda che riguarda ciascuno di noi: da quale luogo guardiamo la vita? E soprattutto\, come possiamo imparare ad abitare — insieme — in modo più umano\, giusto e condiviso. \nPer scaricare la locandina cumulativa clicca QUI. \nLa partecipazione è gratuita e aperta a tutti coloro che desiderano pensare insieme la bellezza dell’impegno sociale e politico.\nIscrizione obbligatoria\, cliccare QUI \nÈ possibile iscriversi all’intero percorso o a singoli incontri.\nPer ogni incontro seguirà locandina specifica con il programma dettagliato.\nPer informazioni: sociale@diocesi.milano.it
URL:https://ambrosianeum.org/evento/abitare-e-condividere-la-casa-tra-incontro-dignita-e-cura-la-seconda-tappa-del-percorso-socio-politico-della-diocesi-di-milano-per-leggere-il-presente-e-generare-futuro/
LOCATION:Fondazione Ambrosianeum\, Sala Falck\, Via delle Ore\, 3\, Milano\, Italia
CATEGORIES:Presentazione
ATTACH;FMTTYPE=application/pdf:https://ambrosianeum.org/wp-content/uploads/2026/02/II-Incontro-Percorso-Sociopolitico_2026.pdf
ORGANIZER;CN="Diocesi di Milano":MAILTO:sociale@diocesi.milano.it
END:VEVENT
BEGIN:VEVENT
DTSTART;TZID=UTC:20251022T180000
DTEND;TZID=UTC:20251022T200000
DTSTAMP:20260422T183835
CREATED:20251014T082941Z
LAST-MODIFIED:20251017T151438Z
UID:5713-1761156000-1761163200@ambrosianeum.org
SUMMARY:Una visione sistemica della salute e della sanità per una cura più umana
DESCRIPTION:Quale sanità\, quale cura sono oggi adeguate a rispondere alle reali esigenze dei cittadini? \nNe parlano Massimiliano Corsi-Romanelli\, ordinario di patologia clinica presso l’Università di Milano\, Stefano Gastaldi\, psicologo e psicoterapeuta Istituto Minotauro\, Giada Lonati\, direttrice sociosanitaria VIDAS\, Alberto Ricciuti\, medico e presidente associazione LA FORZA DI VIVERE ETS\, e Marco Manzoni\, fondatore Studio Oikos. \nL’orientamento tecnico che caratterizza la cultura del nostro tempo\, a fianco di evidenti progressi\, nell’ambito della salute e della sanità ha progressivamente favorito l’emergere di una organizzazione prevalentemente tecnicistica del sapere medico e ha impoverito la relazione fra il malato e chi lo cura di tutto ciò che accoglienza\, capacità di ascolto e sensibilità empatica\, elevano a tempo di cura. \nPer riunire e tenere insieme la dimensione biologica dell’organismo con quella biografica della persona occorre un cambio di visione. Una visione sistemica\, adeguata ad affrontare e gestire i problemi della salute in una più ampia prospettiva medico-sociale e ambientale. Una visione adeguata a considerare la salute come un prezioso bene comune non solo da difendere\, ma soprattutto da coltivare. \nLa partecipazione all’incontro è libera e gratuita.
URL:https://ambrosianeum.org/evento/una-visione-sistemica-della-salute-e-della-sanita-per-una-cura-piu-umana/
LOCATION:Fondazione Ambrosianeum\, Sala Falck\, Via delle Ore\, 3\, Milano\, Italia
CATEGORIES:Medicina, Sanità e Persona
ATTACH;FMTTYPE=application/pdf:https://ambrosianeum.org/wp-content/uploads/2025/10/Locandina-A3-Salute-e-Sanita.pdf
ORGANIZER;CN="Fondazione Ambrosianeum ETS":MAILTO:info@ambrosianeum.org
END:VEVENT
BEGIN:VEVENT
DTSTART;TZID=UTC:20251014T090000
DTEND;TZID=UTC:20251014T130000
DTSTAMP:20260422T183835
CREATED:20250929T105041Z
LAST-MODIFIED:20250929T105041Z
UID:5652-1760432400-1760446800@ambrosianeum.org
SUMMARY:Cura il prossimo tuo come te stesso
DESCRIPTION:Potremo ancora curare tutti?\nL’Arcidiocesi di Milano e la Fondazione Culturale Ambrosianeum promuovono il convegno organizzato da Auxologico Cura il tuo prossimo come te stesso – Potremo ancora curare tutti?\, temi dell’incontro saranno il valore della cura e il diritto alla salute in una società in cambiamento. \nL’equazione tra la crescita della domanda di salute e le limitate risorse disponibili per soddisfarla ci pone davanti a nuovi e complessi interrogativi. La sacralità della vita umana e il valore della cura rappresentano il fondamento per tentare di trovare delle soluzioni che possano ricondurre lo sviluppo tecnologico\, le scienze mediche\, le analisi economiche e organizzative alla base della politica sanitaria e delle scelte imprenditoriali all’unico obiettivo di operare per il bene della persona. \nL’evento in presenza si svolge martedì 14 ottobre 2025 alle ore 9.00\, presso la Sala Convegni di Auxologico San Luca\, p.le Brescia 20 – Milano. \nLa partecipazione è gratuita e l’iscrizione è obbligatoria QUI. \n 
URL:https://ambrosianeum.org/evento/cura-il-prossimo-tuo-come-te-stesso/
LOCATION:Sala Convegni Auxologico San Luca\, Piazzale Brescia\, 20\, Milano\, Italy
CATEGORIES:Medicina, Sanità e Persona
ATTACH;FMTTYPE=image/jpeg:https://ambrosianeum.org/wp-content/uploads/2025/09/CuraIlProssimo2025-DIGITAL_page-0001-1.jpg
END:VEVENT
END:VCALENDAR