BEGIN:VCALENDAR
VERSION:2.0
PRODID:-//Ambrosianeum Fondazione Culturale - ECPv6.15.17.1//NONSGML v1.0//EN
CALSCALE:GREGORIAN
METHOD:PUBLISH
X-WR-CALNAME:Ambrosianeum Fondazione Culturale
X-ORIGINAL-URL:https://ambrosianeum.org
X-WR-CALDESC:Eventi per Ambrosianeum Fondazione Culturale
REFRESH-INTERVAL;VALUE=DURATION:PT1H
X-Robots-Tag:noindex
X-PUBLISHED-TTL:PT1H
BEGIN:VTIMEZONE
TZID:UTC
BEGIN:STANDARD
TZOFFSETFROM:+0000
TZOFFSETTO:+0000
TZNAME:UTC
DTSTART:20250101T000000
END:STANDARD
END:VTIMEZONE
BEGIN:VEVENT
DTSTART;TZID=UTC:20260309T181500
DTEND;TZID=UTC:20260309T200000
DTSTAMP:20260421T202601
CREATED:20260302T092638Z
LAST-MODIFIED:20260302T092638Z
UID:6541-1773080100-1773086400@ambrosianeum.org
SUMMARY:La Grotta della Rinascita. Un viaggio tra arte\, architettura\, filosofia e teologia
DESCRIPTION:Padre Andrea Dall’Asta\, gesuita e\, dal 2002\, direttore della Galleria San Fedele di Milano e dal 2008 al 2020 della Raccolta Lercaro di Bologna. Ha fondato a Milano nel 2014 il “Museo San Fedele. Itinerari di arte e fede”. La sua attenzione è rivolta al rapporto tra arte\, liturgia e architettura\, presenta il suo ultimo libro La Grotta della Rinascita. Un viaggio tra arte\, architettura\, filosofia e teologia. \nUn itinerario multidisciplinare su un archetipo chiave della cultura occidentale parte dalle grotte degli dèi dell’antichità classica\, dal grembo divoratore di Cronos alla grotta della follia e dell’ebbrezza di Dioniso\, cui si affianca la grotta del mito platonico o lo specchio d’acqua\, una sorta di “grotta rovesciata”\, in cui si perde Narciso. Nell’immaginario cristiano compare il grembo di Maria\, madre di Dio\, che è la vera grotta della rinascita\, presente nell’arte rinascimentale e barocca in alcuni capolavori come La Vergine delle rocce di Leonardo e La morte della Vergine di Caravaggio. Anche nell’architettura sacra ritroviamo questo potente archetipo\, ad esempio nel battistero\, che è una sorta di grotta della rinascita alla “vita nuova”. Ad accompagnare una riflessione che si muove fra teologia\, filosofia\, arte e architettura il lettore troverà numerose illustrazioni a colori di opere d’arte di ogni tempo. \nIn collaborazione con Ancora . \n\n\nLa partecipazione è libera e gratuita.
URL:https://ambrosianeum.org/evento/la-grotta-della-rinascita-un-viaggio-tra-arte-architettura-filosofia-e-teologia/
LOCATION:Fondazione Ambrosianeum\, Sala Falck\, Via delle Ore\, 3\, Milano\, Italia
CATEGORIES:Presentazione
ATTACH;FMTTYPE=application/pdf:https://ambrosianeum.org/wp-content/uploads/2026/03/379DB5C5-13C3-436E-A598-2A66E64C5381.pdf
ORGANIZER;CN="Fondazione Ambrosianeum ETS":MAILTO:info@ambrosianeum.org
END:VEVENT
BEGIN:VEVENT
DTSTART;TZID=UTC:20260204T180000
DTEND;TZID=UTC:20260204T200000
DTSTAMP:20260421T202601
CREATED:20260119T104130Z
LAST-MODIFIED:20260119T105427Z
UID:5901-1770228000-1770235200@ambrosianeum.org
SUMMARY:Presentazione del libro “Creazione e mal-essere. Quando la solitudine diventa arte” a cura di Marco Manzoni
DESCRIPTION:Mercoledì 4 febbraio 2026 ore 18\nMarco Manzoni presenta il suo volume “Creazione e mal-essere. Quando la solitudine diventa arte” in dialogo con Marco Beck\, Marco Garzonio e Iolanda Stocchi \nQuesto libro è dedicato a Eugenio Borgna\, lo psichiatra visionario e una delle voci umane più autentiche del nostro tempo. Mal-essere e solitudine sono condizioni umane ineliminabili che la cultura dominante basata sulla prestazione e sulla perfezione tecnica considera totalmente negative e chi li vive come “scarti” umani.\nNel libro significativi autori italiani quali Giovanni Testori\, Giovanni Raboni\, Nadia Fusini\, Carlo Sini\, Marco Garzonio\, Remo Bodei\, Giuseppe Zigaina\, narrano le vicende di grandi artisti quali Van Gogh\, Proust\, Kafka\, Nietzsche\, Jung\, Yourcenar\, Montale\, Pasolini che sono riusciti a trasmutare la loro sofferenza in opere artistiche di grande valore.\nLa seconda parte del volume è dedicata alla relazione tra disagio esistenziale\, solitudine e possibilità creativa nel nostro tempo\, costellato da diverse forme di mal-essere e di isolamento con saggi di Emanuele Severino\, Luigi Zoja\, Carla Stroppa\, Iolanda Stocchi\, Marco Manzoni.\nL’intento dell’opera è mettere in luce che anche per la persona comune esiste la possibilità – proprio paradossalmente a partire dalla propria condizione di disagio e di solitudine – di avviare una ricerca su di sé e di accedere alla propria fonte creativa\, fino a quel momento sconosciuta.\nDal mal-essere alla creazione. All’insegna del principio della speranza\, un principio caro a Eugenio Borgna. \nIn collaborazione con Moretti&Vitali editori. \nLa partecipazione all’incontro è libera e gratuita.
URL:https://ambrosianeum.org/evento/presentazione-del-libro-creazione-e-mal-essere-quando-la-solitudine-diventa-arte-a-cura-di-marco-manzoni/
LOCATION:Fondazione Ambrosianeum\, Sala Falck\, Via delle Ore\, 3\, Milano\, Italia
CATEGORIES:Presentazione
ATTACH;FMTTYPE=application/pdf:https://ambrosianeum.org/wp-content/uploads/2026/01/Locandina-A3-Creazione-malessere.pdf
END:VEVENT
END:VCALENDAR