BEGIN:VCALENDAR
VERSION:2.0
PRODID:-//Ambrosianeum Fondazione Culturale - ECPv6.15.17.1//NONSGML v1.0//EN
CALSCALE:GREGORIAN
METHOD:PUBLISH
X-WR-CALNAME:Ambrosianeum Fondazione Culturale
X-ORIGINAL-URL:https://ambrosianeum.org
X-WR-CALDESC:Eventi per Ambrosianeum Fondazione Culturale
REFRESH-INTERVAL;VALUE=DURATION:PT1H
X-Robots-Tag:noindex
X-PUBLISHED-TTL:PT1H
BEGIN:VTIMEZONE
TZID:UTC
BEGIN:STANDARD
TZOFFSETFROM:+0000
TZOFFSETTO:+0000
TZNAME:UTC
DTSTART:20250101T000000
END:STANDARD
END:VTIMEZONE
BEGIN:VEVENT
DTSTART;TZID=UTC:20260504T180000
DTEND;TZID=UTC:20260504T200000
DTSTAMP:20260421T185558
CREATED:20260421T112145Z
LAST-MODIFIED:20260421T112145Z
UID:6795-1777917600-1777924800@ambrosianeum.org
SUMMARY:La salute inizia a tavola: tra storia\, scienza e benessere
DESCRIPTION:Quanto conta ciò che mangiamo per la nostra longevità e per l’equilibrio della nostra mente? All’interno del ciclo La grande avventura del cibo: Storia e storie dell’alimentazione\, un appuntamento speciale dedicato al legame profondo tra nutrizione e salute. \nIn questo incontro esploreremo come le nostre scelte alimentari quotidiane influenzano non solo il corpo\, ma anche l’invecchiamento cerebrale e il benessere psicofisico. Ne parleremo con due ospiti d’eccezione: \n\n\nMarco TRABUCCHI: Medico e Presidente dell’Associazione Italiana di Psicogeriatria\, che ci guiderà nella comprensione di come il cibo possa essere un alleato fondamentale per la salute della mente. \n\n\nFlavia BERNINI: Biologa nutrizionista\, che approfondirà l’aspetto scientifico e pratico di una dieta equilibrata nel contesto della vita moderna. \n\n\nL’incontro è curato dal giornalista e scrittore Roberto Roveda\, in collaborazione con la rivista Focus.
URL:https://ambrosianeum.org/evento/la-salute-inizia-a-tavola-tra-storia-scienza-e-benessere/
LOCATION:Fondazione Ambrosianeum\, Sala Falck\, Via delle Ore\, 3\, Milano\, Italia
CATEGORIES:Presentazione
ATTACH;FMTTYPE=image/png:https://ambrosianeum.org/wp-content/uploads/2026/04/Locandina-A3-salute-a-tavola.png
ORGANIZER;CN="Fondazione Ambrosianeum ETS":MAILTO:info@ambrosianeum.org
END:VEVENT
END:VCALENDAR