BEGIN:VCALENDAR
VERSION:2.0
PRODID:-//Ambrosianeum Fondazione Culturale - ECPv6.15.17.1//NONSGML v1.0//EN
CALSCALE:GREGORIAN
METHOD:PUBLISH
X-WR-CALNAME:Ambrosianeum Fondazione Culturale
X-ORIGINAL-URL:https://ambrosianeum.org
X-WR-CALDESC:Eventi per Ambrosianeum Fondazione Culturale
REFRESH-INTERVAL;VALUE=DURATION:PT1H
X-Robots-Tag:noindex
X-PUBLISHED-TTL:PT1H
BEGIN:VTIMEZONE
TZID:UTC
BEGIN:STANDARD
TZOFFSETFROM:+0000
TZOFFSETTO:+0000
TZNAME:UTC
DTSTART:20250101T000000
END:STANDARD
END:VTIMEZONE
BEGIN:VEVENT
DTSTART;TZID=UTC:20260506T180000
DTEND;TZID=UTC:20260524T190000
DTSTAMP:20260422T230337
CREATED:20260421T141027Z
LAST-MODIFIED:20260421T141248Z
UID:6803-1778090400-1779649200@ambrosianeum.org
SUMMARY:Pianeta Brera. Opere fotografiche di Roberto Ricci
DESCRIPTION:Mercoledì 6 maggio alle ore 18.00 presso la Fondazione Ambrosianeum – via delle Ore\, 3 a Milano – inaugura la mostra Pianeta Brera\, opere fotografiche di Roberto Ricci. Una selezione di cinquanta opere\, frutto di un lungo lavoro di ricerca di Ricci\, sviluppatosi in diversi momenti\, ma coerentemente al titolo\, avente per oggetto i luoghi\, gli spazi espositivi\, i protagonisti del quartiere che a Milano\, ma anche internazionalmente\, è vissuto come luogo dell’Arte\, e ancora un vero e proprio atto di amore per l’Arte e la Fotografia: Brera\, un sussurro nel cuore di Milano\, un luogo dove il tempo sembra rallentare per lasciare spazio alla bellezza.  \nLa mostra è scandita per ideali capitoli che disegnano un itinerario tra i protagonisti e le evidenze che\, intorno al Palazzo di Brera\, hanno contribuito a renderlo il quartiere dell’Arte di Milano. In primo luogo\, le presenze storiche\, lo studio di Piero Manzoni\, l’ex chiesa di san Carpoforo\, il Jamaica\, i negozi di Belle Arti\, le Gallerie d’arte. Poi il Palazzo di Brera\, un ideale scrigno di saperi\, che mette insieme la monumentalità del cortile e della Pinacoteca\, con la vitalità dei quattromila allievi dell’Accademia. E infine gli artisti che in questo ambiente si sono formati\, e che continuano a frequentare anche come docenti dell’Accademia di Belle Arti\, con un’idea di trasversalità che accosta Maestri di fama consolidata a più giovani\, ritratti anche in momenti di lavoro in studio. \nLa mostra\, curata da Renato Galbusera e supportata da Reinvest S.p.A.\, sarà visitabile sino al prossimo 24 maggio con il seguente orario: nei giorni feriali su prenotazione all’indirizzo mail robertoriccibn@gmail.com; venerdì dalle ore 15.00 alle ore 19.00\, sabato e domenica dalle ore 11.00 alle ore 19.00. \n  \nIngresso libero \n  \nRoberto Ricci fotografo per mestiere e per passione\, classe 1950\, napoletano per nascita e per scelta\, ha prestato servizio per circa 39 anni nel Ministero dei Beni Culturali (laboratorio fotografico) tra Taranto\, Napoli e Milano. Ha affiancato da sempre al lavoro di riproduzione di opere d’arte\, una ricerca di carattere umanista dedicata al ritratto ambientale in b/n (ai sali d’argento). Ha all’attivo pubblicazioni con il Ministero e progetti in collaborazione con l’Accademia di Belle Arti. Sono numerose le sue mostre personali in Italia e all’estero. \nRenato Galbusera è nato a Milano nel 1950\, si diploma al liceo Artistico e all’Accademia di Belle Arti di Brera dove è stato titolare della Cattedra di Pittura. Dalla fine degli anni Settanta è promotore di iniziative culturali\, tra le quali tutte le edizioni di Venature\, Naturarte\, Europe art and Languages\, Arte nello spazio pubblico. Dal 1983 espone con Pino Di Gennaro\, Maria Jannelli\, Antonio Miano e Claudio Zanini con la denominazione di “5 artisti a Milano”. Ha sviluppato una particolare attenzione per il rapporto tra arte visiva ed architettura. Sue opere sono presenti in numerose collezioni pubbliche e private. Vive e lavora a Milano.
URL:https://ambrosianeum.org/evento/pianeta-brera-opere-fotografiche-di-roberto-ricci/
LOCATION:Fondazione Ambrosianeum\, Via delle Ore\, 3\, Milano\, Italia
CATEGORIES:MOSTRA FOTOGRAFICA
ATTACH;FMTTYPE=application/pdf:https://ambrosianeum.org/wp-content/uploads/2026/04/Invito-Pianeta-Brera.pdf
ORGANIZER;CN="Fondazione Ambrosianeum ETS":MAILTO:info@ambrosianeum.org
END:VEVENT
END:VCALENDAR