BEGIN:VCALENDAR
VERSION:2.0
PRODID:-//Ambrosianeum Fondazione Culturale - ECPv6.15.17.1//NONSGML v1.0//EN
CALSCALE:GREGORIAN
METHOD:PUBLISH
X-ORIGINAL-URL:https://ambrosianeum.org
X-WR-CALDESC:Eventi per Ambrosianeum Fondazione Culturale
REFRESH-INTERVAL;VALUE=DURATION:PT1H
X-Robots-Tag:noindex
X-PUBLISHED-TTL:PT1H
BEGIN:VTIMEZONE
TZID:Europe/Rome
BEGIN:DAYLIGHT
TZOFFSETFROM:+0100
TZOFFSETTO:+0200
TZNAME:CEST
DTSTART:20200329T010000
END:DAYLIGHT
BEGIN:STANDARD
TZOFFSETFROM:+0200
TZOFFSETTO:+0100
TZNAME:CET
DTSTART:20201025T010000
END:STANDARD
BEGIN:DAYLIGHT
TZOFFSETFROM:+0100
TZOFFSETTO:+0200
TZNAME:CEST
DTSTART:20210328T010000
END:DAYLIGHT
BEGIN:STANDARD
TZOFFSETFROM:+0200
TZOFFSETTO:+0100
TZNAME:CET
DTSTART:20211031T010000
END:STANDARD
BEGIN:DAYLIGHT
TZOFFSETFROM:+0100
TZOFFSETTO:+0200
TZNAME:CEST
DTSTART:20220327T010000
END:DAYLIGHT
BEGIN:STANDARD
TZOFFSETFROM:+0200
TZOFFSETTO:+0100
TZNAME:CET
DTSTART:20221030T010000
END:STANDARD
BEGIN:DAYLIGHT
TZOFFSETFROM:+0100
TZOFFSETTO:+0200
TZNAME:CEST
DTSTART:20230326T010000
END:DAYLIGHT
BEGIN:STANDARD
TZOFFSETFROM:+0200
TZOFFSETTO:+0100
TZNAME:CET
DTSTART:20231029T010000
END:STANDARD
END:VTIMEZONE
BEGIN:VEVENT
DTSTART;TZID=Europe/Rome:20220407T173000
DTEND;TZID=Europe/Rome:20220407T190000
DTSTAMP:20260419T175427
CREATED:20230618T111654Z
LAST-MODIFIED:20230618T111654Z
UID:3260-1649352600-1649358000@ambrosianeum.org
SUMMARY:L'UTERO IN AFFITTO
DESCRIPTION:Un’operazione culturale di antropologia distorta \n\nIntroduce e coordina:\n\nRosa ROSNATI\, Prof. Ordinario di Psicologia sociale e della famiglia\, Universita’ Cattolica del Sacro Cuore\, Milano \nIntervengono: \nGiuseppe ANZANI\, Magistrato\, Presidente emerito del Tribunale di Como\nNicola NATALE\, gia’ Direttore Dipartimento interaziendale materno-infantile di Lecco\nMarina TERRAGNI\, Giornalista\, Scrittrice\, Docente universitaria \n  \n\n\n\n\n\n\nCiclo di Incontri:\n\n\nLE CONQUISTE DELLA MEDICINA AL SERVIZIO DELLA PERSONA\n\n\nUn nuovo “contenitore” organizzato dalle Fondazioni Ambrosianeum e Matarelli a cura di Giorgio LAMBERTENGHI DELILIERS: nove incontri (da ottobre 2021 ad aprile 2022) che propongono altrettanti momenti di riflessione etica e sociale su argomenti “caldi” della medicina contemporanea: si inizia con adolescenti e bullismo o cyberbullismo e si continua con il ritiro sociale indotto dalla pandemia\, la fiducia nella scienza\, l’urgenza di ri-umanizzare la medicina\, l’intelligenza artificiale\, l’eutanasia\, i rischi connessi all’inquinamento elettromagnetico e il tatuaggio nella cultura contemporanea\, per finire con il  controverso tema dell’utero in affitto. \nProgramma del ciclo eventi\nComunicato Stampa\n\n\nS.I.R.\nIntervista di Radio Marconi a Michela Zucca\nSIR 21.3.2022\n\n\nLa Rassegna Stampa\n\n\nChiesadiMilano.it\nAvvenire\nCorriere della Sera\nTuttoMilano (Repubblica)\nAvvenire\nAvvenire.it\nIl Giorno\nAvvenire\nAvvenire\nTuttoMilano – Repubblica\nwww.chiesadimilano.it\nAvvenire 28.11.2021\nChiesadiMilano.it 25.1.2022\nS.I.R. 29.1.2022\nAgenzia Nova 30.1.2022\nAvvenire 30.1.2022\nCorriere 31.1.2022\nChiesadiMilano.it 22.2.2022\nCorriere della Sera 10.3.2022\nCorriere della Sera 7.4.22\nAvvenire 10.4.2022\nAvvenire 8.5.22
URL:https://ambrosianeum.org/evento/lutero-in-affitto/
LOCATION:Fondazione Ambrosianeum\, Sala Falck\, Via delle Ore\, 3\, Milano\, Italia
CATEGORIES:LE CONQUISTE DELLA MEDICINA AL SERVIZIO DELLA PERSONA
ATTACH;FMTTYPE=image/jpeg:https://ambrosianeum.org/wp-content/uploads/2023/06/l-utero-in-affitto.jpg
END:VEVENT
BEGIN:VEVENT
DTSTART;TZID=Europe/Rome:20220310T173000
DTEND;TZID=Europe/Rome:20220310T190000
DTSTAMP:20260419T175428
CREATED:20230618T111057Z
LAST-MODIFIED:20230618T111057Z
UID:3480-1646933400-1646938800@ambrosianeum.org
SUMMARY:IL TATUAGGIO NELLA CULTURA CONTEMPORANEA
DESCRIPTION:Un fenomeno di massa per definire l’identita’ personale \n\n\nWeb\n\nATTENZIONE: L’INCONTRO SI SVOLGERA’ ONLINE SUL CANALE YOUTUBE AMBROSIANEUM \nIntroduce e coordina: \nPiergiorgio MALAGOLI\, Responsabile U.O. di Dermatologia Ospedale Policlinico San Donato Milanese \nIntervengono: \nGiuseppe FERRIGNO\, Analista\, Psicoterapeuta adleriano\, Didatta ufficiale della Società Italiana di Psicologia Individuale: “Il tatuaggio come teatro epidermico evolutivo del Sé-Stile di vita: fra primi ricordi e costellazioni familiari” \nAlessandra MARCAZZAN\, Psicologa e psicoterapeuta\, Istituto Minotauro di Milano: “Piercing e tatuaggio: le manipolazioni del corpo in adolescenza” \nMichela ZUCCA\, Antropologa: “Tatuaggi: storia di una pratica ancestrale” \n\n\n\n\n\nCiclo di Incontri:\n\n\nLE CONQUISTE DELLA MEDICINA AL SERVIZIO DELLA PERSONA\n\n\nUn nuovo “contenitore” organizzato dalle Fondazioni Ambrosianeum e Matarelli a cura di Giorgio LAMBERTENGHI DELILIERS: nove incontri (da ottobre 2021 ad aprile 2022) che propongono altrettanti momenti di riflessione etica e sociale su argomenti “caldi” della medicina contemporanea: si inizia con adolescenti e bullismo o cyberbullismo e si continua con il ritiro sociale indotto dalla pandemia\, la fiducia nella scienza\, l’urgenza di ri-umanizzare la medicina\, l’intelligenza artificiale\, l’eutanasia\, i rischi connessi all’inquinamento elettromagnetico e il tatuaggio nella cultura contemporanea\, per finire con il  controverso tema dell’utero in affitto. \nProgramma del ciclo eventi\nComunicato Stampa\n\n\nS.I.R.\nIntervista di Radio Marconi a Michela Zucca\nSIR 21.3.2022\n\n\nLa Rassegna Stampa\n\n\nChiesadiMilano.it\nAvvenire\nCorriere della Sera\nTuttoMilano (Repubblica)\nAvvenire\nAvvenire.it\nIl Giorno\nAvvenire\nAvvenire\nTuttoMilano – Repubblica\nwww.chiesadimilano.it\nAvvenire 28.11.2021\nChiesadiMilano.it 25.1.2022\nS.I.R. 29.1.2022\nAgenzia Nova 30.1.2022\nAvvenire 30.1.2022\nCorriere 31.1.2022\nChiesadiMilano.it 22.2.2022\nCorriere della Sera 10.3.2022\nCorriere della Sera 7.4.22\nAvvenire 10.4.2022\nAvvenire 8.5.22
URL:https://ambrosianeum.org/evento/il-tatuaggio-nella-cultura-contemporanea-2/
CATEGORIES:LE CONQUISTE DELLA MEDICINA AL SERVIZIO DELLA PERSONA
ATTACH;FMTTYPE=image/jpeg:https://ambrosianeum.org/wp-content/uploads/2023/06/il-tatuaggio-nella-cultura-contemporanea.jpg
END:VEVENT
BEGIN:VEVENT
DTSTART;TZID=Europe/Rome:20220217T173000
DTEND;TZID=Europe/Rome:20220217T190000
DTSTAMP:20260419T175428
CREATED:20230618T110332Z
LAST-MODIFIED:20230618T110332Z
UID:3479-1645119000-1645124400@ambrosianeum.org
SUMMARY:ELETTROMAGNETISMO E SALUTE PUBBLICA (ANNULLATO!)
DESCRIPTION:ATTENZIONE: L’INCONTRO E’ ANNULLATO \n  \nIntroduce e coordina: \nMarco POTENZA\, Professore Associato Dipartimento di Fisica\, Università degli Studi di Milano: “Le onde elettromagnetiche” \nIntervengono: \nEttore BEGHI\, Direttore Laboratorio Malattie Neurologiche\, Dipartimento di Neuroscienze Istituto di Ricerche Farmacologiche Mario Negri-IRCCS: “Elettromagnetismo e malattie neurologiche” \nFiorella BELPOGGI\, Direttore Scientifico\, Istituto Ramazzini\, Bologna: “5G: opportunita’ e pericoli” \nPaola FERMO\, Prof. Ord. di Chimica Analitica\, Dipartimento di Chimica\, Università degli Studi di Milano: “Inquinamento ambientale: considerazioni generali” \n\n\n\n\n  \n\n\nCiclo di Incontri:\n\n\nLE CONQUISTE DELLA MEDICINA AL SERVIZIO DELLA PERSONA\n\n\nUn nuovo “contenitore” organizzato dalle Fondazioni Ambrosianeum e Matarelli a cura di Giorgio LAMBERTENGHI DELILIERS: nove incontri (da ottobre 2021 ad aprile 2022) che propongono altrettanti momenti di riflessione etica e sociale su argomenti “caldi” della medicina contemporanea: si inizia con adolescenti e bullismo o cyberbullismo e si continua con il ritiro sociale indotto dalla pandemia\, la fiducia nella scienza\, l’urgenza di ri-umanizzare la medicina\, l’intelligenza artificiale\, l’eutanasia\, i rischi connessi all’inquinamento elettromagnetico e il tatuaggio nella cultura contemporanea\, per finire con il  controverso tema dell’utero in affitto. \nProgramma del ciclo eventi\nComunicato Stampa\n\n\nS.I.R.\nIntervista di Radio Marconi a Michela Zucca\nSIR 21.3.2022\n\n\nLa Rassegna Stampa\n\n\nChiesadiMilano.it\nAvvenire\nCorriere della Sera\nTuttoMilano (Repubblica)\nAvvenire\nAvvenire.it\nIl Giorno\nAvvenire\nAvvenire\nTuttoMilano – Repubblica\nwww.chiesadimilano.it\nAvvenire 28.11.2021\nChiesadiMilano.it 25.1.2022\nS.I.R. 29.1.2022\nAgenzia Nova 30.1.2022\nAvvenire 30.1.2022\nCorriere 31.1.2022\nChiesadiMilano.it 22.2.2022\nCorriere della Sera 10.3.2022\nCorriere della Sera 7.4.22\nAvvenire 10.4.2022\nAvvenire 8.5.22
URL:https://ambrosianeum.org/evento/elettromagnetismo-e-salute-pubblica-annullato-2/
LOCATION:Fondazione Ambrosianeum\, Sala Falck\, Via delle Ore\, 3\, Milano\, Italia
CATEGORIES:LE CONQUISTE DELLA MEDICINA AL SERVIZIO DELLA PERSONA
ATTACH;FMTTYPE=image/jpeg:https://ambrosianeum.org/wp-content/uploads/2023/06/elettromagnetismo-e-salute-pubblica.jpg
END:VEVENT
BEGIN:VEVENT
DTSTART;TZID=Europe/Rome:20220131T173000
DTEND;TZID=Europe/Rome:20220131T173000
DTSTAMP:20260419T175428
CREATED:20230618T105640Z
LAST-MODIFIED:20230618T105640Z
UID:3250-1643650200-1643650200@ambrosianeum.org
SUMMARY:IL DIBATTITO SU EUTANASIA E ASSISTENZA AL SUICIDIO: ACCOMPAGNAMENTO NELLA SOFFERENZA E CURE PALLIATIVE
DESCRIPTION:Web\n\n\nL’INCONTRO SI SVOLGERA’ ONLINE SUL CANALE YOUTUBE AMBROSIANEUM \nL’ARCIVESCOVO DI MILANO S.E. MARIO DELPINI PORTERA’ IL SUO SALUTO AI PARTECIPANTI \nIntroduce e coordina: \nElena COLOMBETTI\, Professore Associato di Filosofia Morale\, Dipartimento di Filosofia e Centro di Ateneo di Bioetica\, Universita’ Cattolica del Sacro Cuore di Milano \nIntervengono: \nAugusto CARACENI\, Professore Associato di Medicina Palliativa\, Universita’ degli Studi di Milano; Director Palliative Care\, Pain Therapy\, Rehabilitation\, Fondazione IRCCS Istituto Nazionale dei Tumori di Milano. \nCarlo CASALONE SJ\, Accademico della Pontificia Accademia per la Vita-Sezione scientifica\, Citta’ del Vaticano; Presidente della Fondazione Carlo Maria Martini. \nRoberto MORDACCI\, Preside Facolta’ di Filosofia\, Universita’ Vita-Salute San Raffaele\, Milano; Director\, International Research Centre for European Culture and Politics (IRCECP). \n\n\n\n  \n\n\nCiclo di Incontri:\n\n\nLE CONQUISTE DELLA MEDICINA AL SERVIZIO DELLA PERSONA\n\n\nUn nuovo “contenitore” organizzato dalle Fondazioni Ambrosianeum e Matarelli a cura di Giorgio LAMBERTENGHI DELILIERS: nove incontri (da ottobre 2021 ad aprile 2022) che propongono altrettanti momenti di riflessione etica e sociale su argomenti “caldi” della medicina contemporanea: si inizia con adolescenti e bullismo o cyberbullismo e si continua con il ritiro sociale indotto dalla pandemia\, la fiducia nella scienza\, l’urgenza di ri-umanizzare la medicina\, l’intelligenza artificiale\, l’eutanasia\, i rischi connessi all’inquinamento elettromagnetico e il tatuaggio nella cultura contemporanea\, per finire con il  controverso tema dell’utero in affitto. \nProgramma del ciclo eventi\nComunicato Stampa\n\n\nS.I.R.\nIntervista di Radio Marconi a Michela Zucca\nSIR 21.3.2022\n\n\nLa Rassegna Stampa\n\n\nChiesadiMilano.it\nAvvenire\nCorriere della Sera\nTuttoMilano (Repubblica)\nAvvenire\nAvvenire.it\nIl Giorno\nAvvenire\nAvvenire\nTuttoMilano – Repubblica\nwww.chiesadimilano.it\nAvvenire 28.11.2021\nChiesadiMilano.it 25.1.2022\nS.I.R. 29.1.2022\nAgenzia Nova 30.1.2022\nAvvenire 30.1.2022\nCorriere 31.1.2022\nChiesadiMilano.it 22.2.2022\nCorriere della Sera 10.3.2022\nCorriere della Sera 7.4.22\nAvvenire 10.4.2022\nAvvenire 8.5.22
URL:https://ambrosianeum.org/evento/il-dibattito-su-eutanasia-e-assistenza-al-suicidio-accompagnamento-nella-sofferenza-e-cure-palliative/
CATEGORIES:LE CONQUISTE DELLA MEDICINA AL SERVIZIO DELLA PERSONA
ATTACH;FMTTYPE=image/jpeg:https://ambrosianeum.org/wp-content/uploads/2023/06/il-dibattito-su-eutanasia-e-assistenza-al-suicidio-accompagnamento-nella-sofferenza-e-cure-palliative.jpg
END:VEVENT
BEGIN:VEVENT
DTSTART;TZID=Europe/Rome:20220120T173000
DTEND;TZID=Europe/Rome:20220120T190000
DTSTAMP:20260419T175428
CREATED:20230618T105218Z
LAST-MODIFIED:20230618T105218Z
UID:3247-1642699800-1642705200@ambrosianeum.org
SUMMARY:INTELLIGENZA ARTIFICIALE
DESCRIPTION:Incontro in collaborazione con CIPOMO (Collegio Italiano Primari Oncologi Medici Ospedalieri) \n\nNuove tecnologie al servizio del bene comune \n\nATTENZIONE: L’INCONTRO E’ RINVIATO AL 12 MAGGIO 2022\n\n\nIntroduce e coordina: \nPaolo NUCCI\, Ordinario di Oftalmologia Università degli Studi di Milano \nIntervengono: \nPaolo BENANTI\, Professore Facoltà di Teologia\, Dipartimento Teologia morale Pontificia Università Gregoriana\, Roma: “Opportunita’ e rischi in medicina” \nAndrea CAROBENE\, Head of Digital and Data Management United Risk Management S.p.a.\, Milano: “Macchine più intelligenti dell’uomo? Interrogativi di ordine antropologico\, filosofico ed etico” \nStefano QUINTARELLI\, Chairman of the Advisory group on Advanced Technologies UN/CEFACT\, Ginevra: “Cos’e’ davvero\, come funziona\, campi di applicazione” \n\n  \n\n\nCiclo di Incontri:\n\n\nLE CONQUISTE DELLA MEDICINA AL SERVIZIO DELLA PERSONA\n\n\nUn nuovo “contenitore” organizzato dalle Fondazioni Ambrosianeum e Matarelli a cura di Giorgio LAMBERTENGHI DELILIERS: nove incontri (da ottobre 2021 ad aprile 2022) che propongono altrettanti momenti di riflessione etica e sociale su argomenti “caldi” della medicina contemporanea: si inizia con adolescenti e bullismo o cyberbullismo e si continua con il ritiro sociale indotto dalla pandemia\, la fiducia nella scienza\, l’urgenza di ri-umanizzare la medicina\, l’intelligenza artificiale\, l’eutanasia\, i rischi connessi all’inquinamento elettromagnetico e il tatuaggio nella cultura contemporanea\, per finire con il  controverso tema dell’utero in affitto. \nProgramma del ciclo eventi\nComunicato Stampa\n\n\nS.I.R.\nIntervista di Radio Marconi a Michela Zucca\nSIR 21.3.2022\n\n\nLa Rassegna Stampa\n\n\nChiesadiMilano.it\nAvvenire\nCorriere della Sera\nTuttoMilano (Repubblica)\nAvvenire\nAvvenire.it\nIl Giorno\nAvvenire\nAvvenire\nTuttoMilano – Repubblica\nwww.chiesadimilano.it\nAvvenire 28.11.2021\nChiesadiMilano.it 25.1.2022\nS.I.R. 29.1.2022\nAgenzia Nova 30.1.2022\nAvvenire 30.1.2022\nCorriere 31.1.2022\nChiesadiMilano.it 22.2.2022\nCorriere della Sera 10.3.2022\nCorriere della Sera 7.4.22\nAvvenire 10.4.2022\nAvvenire 8.5.22
URL:https://ambrosianeum.org/evento/intelligenza-artificiale/
LOCATION:Fondazione Ambrosianeum\, Sala Falck\, Via delle Ore\, 3\, Milano\, Italia
CATEGORIES:LE CONQUISTE DELLA MEDICINA AL SERVIZIO DELLA PERSONA
ATTACH;FMTTYPE=image/jpeg:https://ambrosianeum.org/wp-content/uploads/2023/06/intelligenza-artificiale.jpg
END:VEVENT
BEGIN:VEVENT
DTSTART;TZID=Europe/Rome:20211221T170000
DTEND;TZID=Europe/Rome:20211221T190000
DTSTAMP:20260419T175428
CREATED:20230618T104521Z
LAST-MODIFIED:20230618T104521Z
UID:3242-1640106000-1640113200@ambrosianeum.org
SUMMARY:RI-UMANIZZARE LA MEDICINA: UN'URGENZA!
DESCRIPTION:Incontro in collaborazione con CIPOMO (Collegio Italiano Primari Oncologi Medici Ospedalieri) \nIntroducono:  \nMarco GARZONIO e Giorgio LAMBERTENGHI DELILIERS \nCoordina: \nAlberto SCANNI\, Oncologo\, gia’ Direttore Generale Istituto Nazionale dei Tumori di Milano \nIntervengono: \nLuigi CAVANNA\, Presidente CIPOMO: “Un dovere per gli operatori sanitari“. \nDario CORNATI\, Docente di Teologia Fondamentale\, Facolta’ Teologica di Milano: “L’umano alla prova della sofferenza“. \nLuigi RIPAMONTI\, Direttore Corriere Salute: “Un impegno per i responsabili della comunicazione e della rete“. \n  \n\n\nCiclo di Incontri:\n\n\nLE CONQUISTE DELLA MEDICINA AL SERVIZIO DELLA PERSONA\n\n\nUn nuovo “contenitore” organizzato dalle Fondazioni Ambrosianeum e Matarelli a cura di Giorgio LAMBERTENGHI DELILIERS: nove incontri (da ottobre 2021 ad aprile 2022) che propongono altrettanti momenti di riflessione etica e sociale su argomenti “caldi” della medicina contemporanea: si inizia con adolescenti e bullismo o cyberbullismo e si continua con il ritiro sociale indotto dalla pandemia\, la fiducia nella scienza\, l’urgenza di ri-umanizzare la medicina\, l’intelligenza artificiale\, l’eutanasia\, i rischi connessi all’inquinamento elettromagnetico e il tatuaggio nella cultura contemporanea\, per finire con il  controverso tema dell’utero in affitto. \nProgramma del ciclo eventi\nComunicato Stampa\n\n\nS.I.R.\nIntervista di Radio Marconi a Michela Zucca\nSIR 21.3.2022\n\n\nLa Rassegna Stampa\n\n\nChiesadiMilano.it\nAvvenire\nCorriere della Sera\nTuttoMilano (Repubblica)\nAvvenire\nAvvenire.it\nIl Giorno\nAvvenire\nAvvenire\nTuttoMilano – Repubblica\nwww.chiesadimilano.it\nAvvenire 28.11.2021\nChiesadiMilano.it 25.1.2022\nS.I.R. 29.1.2022\nAgenzia Nova 30.1.2022\nAvvenire 30.1.2022\nCorriere 31.1.2022\nChiesadiMilano.it 22.2.2022\nCorriere della Sera 10.3.2022\nCorriere della Sera 7.4.22\nAvvenire 10.4.2022\nAvvenire 8.5.22
URL:https://ambrosianeum.org/evento/ri-umanizzare-la-medicina-unurgenza/
LOCATION:Fondazione Ambrosianeum\, Sala Falck\, Via delle Ore\, 3\, Milano\, Italia
CATEGORIES:LE CONQUISTE DELLA MEDICINA AL SERVIZIO DELLA PERSONA
ATTACH;FMTTYPE=image/jpeg:https://ambrosianeum.org/wp-content/uploads/2023/06/ri-umanizzare-la-medicina-un-urgenza.jpg
END:VEVENT
BEGIN:VEVENT
DTSTART;TZID=Europe/Rome:20211202T173000
DTEND;TZID=Europe/Rome:20211202T193000
DTSTAMP:20260419T175428
CREATED:20230618T104252Z
LAST-MODIFIED:20230618T104252Z
UID:3238-1638466200-1638473400@ambrosianeum.org
SUMMARY:PERCHE' FIDARSI DELLA SCIENZA?
DESCRIPTION:Introduce e coordina: \nFerruccio DE BORTOLI\, Giornalista\, Presidente Associazione VIDAS di Milano\, Editorialista \n \nIntervengono:  \nElena CATTANEO\, Senatrice a vita\, Ordinario di Farmacologia Dipartimento di Bioscienze\, Universita’ degli Studi di Milano\, Istituto Nazionale di Genetica Molecolare \nAlberto MANTOVANI\, Direttore Scientifico Istituto Clinico Humanitas\, Milano; Professore Emerito Humanitas University \nFranco RIVA\, Ordinario di Filosofia morale\, Etica sociale\, Etica e Antropologia filosofica\, Facolta’ di Lettere e Filosofia Università Cattolica del Sacro Cuore di Milano \n\nProgramma
URL:https://ambrosianeum.org/evento/perche-fidarsi-della-scienza/
LOCATION:Fondazione Ambrosianeum\, Sala Falck\, Via delle Ore\, 3\, Milano\, Italia
CATEGORIES:LE CONQUISTE DELLA MEDICINA AL SERVIZIO DELLA PERSONA
ATTACH;FMTTYPE=image/jpeg:https://ambrosianeum.org/wp-content/uploads/2023/06/perche-fidarsi-della-scienza.jpg
END:VEVENT
BEGIN:VEVENT
DTSTART;TZID=Europe/Rome:20211121T173000
DTEND;TZID=Europe/Rome:20211221T190000
DTSTAMP:20260419T175428
CREATED:20230618T104014Z
LAST-MODIFIED:20230618T104014Z
UID:3235-1637515800-1640113200@ambrosianeum.org
SUMMARY:IL RITIRO SOCIALE: UNA SOFFERENZA NASCOSTA
DESCRIPTION:Introduce e coordina: \nMarco GARZONIO\, Presidente Fondazione Ambrosianeum\, Psicologo analista\, Psicoterapeuta\, Giornalista \nIntervengono: \nAlessia LANZI\, Psicoterapeuta\, Istituto Minotauro\, Milano: “Adolescenti ritirati: ritratto di una generazione silenziosa” \nBarbara POLETTI\, Coordinatrice Servizio di Neuropsicologia e Psicologia Clinica U.O. di Neurologia e Laboratorio di Neuroscienze IRCCS Istituto Auxologico Italiano\, Milano: “La ‘sindrome della capanna’ al tempo del COVID” \nCristina TONI\, Psichiatra\, CM Visconti di Modrone\, Milano; Istituto di Scienze del Comportamento De Lisio\, Pisa: “Anziani ritirati: ritratto di una vecchiaia solitaria”
URL:https://ambrosianeum.org/evento/il-ritiro-sociale-una-sofferenza-nascosta/
LOCATION:Fondazione Ambrosianeum\, Sala Falck\, Via delle Ore\, 3\, Milano\, Italia
CATEGORIES:LE CONQUISTE DELLA MEDICINA AL SERVIZIO DELLA PERSONA
ATTACH;FMTTYPE=image/jpeg:https://ambrosianeum.org/wp-content/uploads/2023/06/il-ritiro-sociale-una-sofferenza-nascosta.jpg
END:VEVENT
BEGIN:VEVENT
DTSTART;TZID=Europe/Rome:20211021T173000
DTEND;TZID=Europe/Rome:20211021T193000
DTSTAMP:20260419T175428
CREATED:20230618T103826Z
LAST-MODIFIED:20230618T103826Z
UID:3232-1634837400-1634844600@ambrosianeum.org
SUMMARY:LA PROTEZIONE DEGLI ADOLESCENTI NELL'ERA DEL BULLISMO E DEL CYBERBULLISMO
DESCRIPTION:Introduce e coordina:\n\nPaolo INGHILERI\, Ordinario di Psicologia sociale Universita’ degli Studi di Milano \nIntervengono: \nAnna ARCARI\, Psicologa e psicoterapeuta\, Presidente della Cooperativa Minotauro\, Milano: “Adolescenti nella rete: risorse e rischi nel labirinto della crescita“. \nCiro CASCONE\, Procuratore della Repubblica presso il Tribunale dei Minori di Milano\, Università Cattolica del Sacro Cuore di Milano: “Tutela delle persone tra mondo reale e mondo virtuale” \nNicola IANNACCONE\, Psicologo e psicoterapeuta\, Responsabile UOS Promozione Salute ATS Citta’ Metropolitana di Milano: “Né bulli né indifferenti“. \n\nProgramma\n\nAvvenire
URL:https://ambrosianeum.org/evento/la-protezione-degli-adolescenti-nellera-del-bullismo-e-del-cyberbullismo/
LOCATION:Fondazione Ambrosianeum\, Sala Falck\, Via delle Ore\, 3\, Milano\, Italia
CATEGORIES:LE CONQUISTE DELLA MEDICINA AL SERVIZIO DELLA PERSONA
ATTACH;FMTTYPE=image/jpeg:https://ambrosianeum.org/wp-content/uploads/2023/06/la-protezione-degli-adolescenti-nell-era-del-bullismo-e-del-cyberbullismo.jpg
END:VEVENT
END:VCALENDAR